BEGIN:VCALENDAR
VERSION:2.0
PRODID:-//ZContent.net//ZapCalLib 1.0//EN
CALSCALE:GREGORIAN
METHOD:PUBLISH
BEGIN:VTIMEZONE
TZID:Europe/Rome
BEGIN:DAYLIGHT
DTSTART:20240331T030000
TZOFFSETFROM:+0100
TZOFFSETTO:+0200
TZNAME:CEST
END:DAYLIGHT
BEGIN:STANDARD
DTSTART:20241027T020000
TZOFFSETFROM:+0200
TZOFFSETTO:+0100
TZNAME:CET
END:STANDARD
BEGIN:DAYLIGHT
DTSTART:20250330T030000
TZOFFSETFROM:+0100
TZOFFSETTO:+0200
TZNAME:CEST
END:DAYLIGHT
BEGIN:STANDARD
DTSTART:20251026T020000
TZOFFSETFROM:+0200
TZOFFSETTO:+0100
TZNAME:CET
END:STANDARD
BEGIN:DAYLIGHT
DTSTART:20260329T030000
TZOFFSETFROM:+0100
TZOFFSETTO:+0200
TZNAME:CEST
END:DAYLIGHT
BEGIN:STANDARD
DTSTART:20261025T020000
TZOFFSETFROM:+0200
TZOFFSETTO:+0100
TZNAME:CET
END:STANDARD
END:VTIMEZONE
BEGIN:VEVENT
SUMMARY:Eventi BCC Milano - Tracce di pace
DTSTART:20251011T090000
DTEND:20251013T000000
UID:2025-10-11 09:00:00 _iy@f8L3y4QhrJWQ3wCHsdUAnB&sGtdAT-377
DTSTAMP:20260420T143025
LOCATION:Giardini di Villa Facheris (MI)
Description:Nel giardino di Villa Facheris prende forma uno spazio di arte 
 pubblica con le sculture di Edi Mantovani\, che esplorano i temi della pac
 e\, dell’incontro\, della divisione e della riconciliazione.\nVisualizza
  piu informazioni su https://latuabanca.bccmilano.it/appuntamenti-sul-terr
 itorio/
END:VEVENT
END:VCALENDAR
